BEGIN:VCALENDAR
VERSION:2.0
PRODID:-//Texas DRE and ARIDE Programs - ECPv6.15.20//NONSGML v1.0//EN
CALSCALE:GREGORIAN
METHOD:PUBLISH
X-WR-CALNAME:Texas DRE and ARIDE Programs
X-ORIGINAL-URL:https://texasdre.org
X-WR-CALDESC:Events for Texas DRE and ARIDE Programs
REFRESH-INTERVAL;VALUE=DURATION:PT1H
X-Robots-Tag:noindex
X-PUBLISHED-TTL:PT1H
BEGIN:VTIMEZONE
TZID:America/Chicago
BEGIN:DAYLIGHT
TZOFFSETFROM:-0600
TZOFFSETTO:-0500
TZNAME:CDT
DTSTART:20250309T080000
END:DAYLIGHT
BEGIN:STANDARD
TZOFFSETFROM:-0500
TZOFFSETTO:-0600
TZNAME:CST
DTSTART:20251102T070000
END:STANDARD
BEGIN:DAYLIGHT
TZOFFSETFROM:-0600
TZOFFSETTO:-0500
TZNAME:CDT
DTSTART:20260308T080000
END:DAYLIGHT
BEGIN:STANDARD
TZOFFSETFROM:-0500
TZOFFSETTO:-0600
TZNAME:CST
DTSTART:20261101T070000
END:STANDARD
BEGIN:DAYLIGHT
TZOFFSETFROM:-0600
TZOFFSETTO:-0500
TZNAME:CDT
DTSTART:20270314T080000
END:DAYLIGHT
BEGIN:STANDARD
TZOFFSETFROM:-0500
TZOFFSETTO:-0600
TZNAME:CST
DTSTART:20271107T070000
END:STANDARD
END:VTIMEZONE
BEGIN:VEVENT
DTSTART;TZID=America/Chicago:20260304T080000
DTEND;TZID=America/Chicago:20260304T170000
DTSTAMP:20260423T053123
CREATED:20250910T221727Z
LAST-MODIFIED:20250910T221727Z
UID:10000284-1772611200-1772643600@texasdre.org
SUMMARY:Houston- DRUG RECOGNITION EXPERT-IN-SERVICE
DESCRIPTION:8-hour course to recertify officers as Drug Recognition Experts.  Includes update presentation\, written examination\, small matrix reproduction\, and mock evaluation witnessed by an instructor (if needed). \nYou will be contacted with your registration confirmation and instructions on submitting required documents. \nFor more information regarding the course or requirements to attend contact one of our staff or email us at: info@texasDRE.org
URL:https://texasdre.org/calendar/houston-drug-recognition-expert-in-service-3-4-2026/
LOCATION:Texas Department of Transportation-Houston\, 7600 Washington Ave.\, Houston\, TX\, 77573\, United States
CATEGORIES:Drug Recognition Expert-In-Service
ORGANIZER;CN="Carlos Champion":MAILTO:Carlos.champion@TexasDRE.org
END:VEVENT
BEGIN:VEVENT
DTSTART;TZID=America/Chicago:20260318T080000
DTEND;TZID=America/Chicago:20260318T170000
DTSTAMP:20260423T053123
CREATED:20250905T163028Z
LAST-MODIFIED:20250905T163028Z
UID:10000282-1773820800-1773853200@texasdre.org
SUMMARY:Round Rock- DRUG RECOGNITION EXPERT-IN-SERVICE
DESCRIPTION:8-hour course to recertify officers as Drug Recognition Experts.  Includes update presentation\, written examination\, small matrix reproduction\, and mock evaluation witnessed by an instructor (if needed). \nYou will be contacted with your registration confirmation and instructions on submitting required documents. \nFor more information regarding the course or requirements to attend contact one of our staff or email us at: info@texasDRE.org
URL:https://texasdre.org/calendar/round-rock-drug-recognition-expert-in-service-3-18-2026/
LOCATION:Round Rock Police Department\, 2701 North Mays Street\, Round Rock\, TX\, 78665\, United States
CATEGORIES:Drug Recognition Expert-In-Service
ORGANIZER;CN="Carlos Champion":MAILTO:Carlos.champion@TexasDRE.org
END:VEVENT
BEGIN:VEVENT
DTSTART;TZID=America/Chicago:20260325T080000
DTEND;TZID=America/Chicago:20260325T170000
DTSTAMP:20260423T053123
CREATED:20250821T215159Z
LAST-MODIFIED:20250821T215159Z
UID:10000271-1774425600-1774458000@texasdre.org
SUMMARY:Southlake - DRUG RECOGNITION EXPERT-IN-SERVICE
DESCRIPTION:8-hour course to recertify officers as Drug Recognition Experts.  Includes update presentation\, written examination\, small matrix reproduction\, and mock evaluation witnessed by an instructor (if needed). \nYou will be contacted with your registration confirmation and instructions on submitting required documents. \nFor more information regarding the course or requirements to attend contact one of our staff or email us at: info@texasDRE.org
URL:https://texasdre.org/calendar/southlake-drug-recognition-expert-in-service-3-25-2026/
LOCATION:Southlake DPS Training Facility\, 100 E. Dove Rd.\, Southlake\, TX\, 76092\, United States
CATEGORIES:Drug Recognition Expert-In-Service
ORGANIZER;CN="Carlos Champion":MAILTO:Carlos.champion@TexasDRE.org
END:VEVENT
END:VCALENDAR